BEGIN:VCALENDAR
VERSION:2.0
PRODID:-//Rueda for Fun - ECPv6.15.20//NONSGML v1.0//EN
CALSCALE:GREGORIAN
METHOD:PUBLISH
X-ORIGINAL-URL:https://ruedaforfun.com
X-WR-CALDESC:Evenementen voor Rueda for Fun
REFRESH-INTERVAL;VALUE=DURATION:PT1H
X-Robots-Tag:noindex
X-PUBLISHED-TTL:PT1H
BEGIN:VTIMEZONE
TZID:Europe/Amsterdam
BEGIN:DAYLIGHT
TZOFFSETFROM:+0100
TZOFFSETTO:+0200
TZNAME:CEST
DTSTART:20250330T010000
END:DAYLIGHT
BEGIN:STANDARD
TZOFFSETFROM:+0200
TZOFFSETTO:+0100
TZNAME:CET
DTSTART:20251026T010000
END:STANDARD
BEGIN:DAYLIGHT
TZOFFSETFROM:+0100
TZOFFSETTO:+0200
TZNAME:CEST
DTSTART:20260329T010000
END:DAYLIGHT
BEGIN:STANDARD
TZOFFSETFROM:+0200
TZOFFSETTO:+0100
TZNAME:CET
DTSTART:20261025T010000
END:STANDARD
BEGIN:DAYLIGHT
TZOFFSETFROM:+0100
TZOFFSETTO:+0200
TZNAME:CEST
DTSTART:20270328T010000
END:DAYLIGHT
BEGIN:STANDARD
TZOFFSETFROM:+0200
TZOFFSETTO:+0100
TZNAME:CET
DTSTART:20271031T010000
END:STANDARD
END:VTIMEZONE
BEGIN:VEVENT
DTSTART;TZID=Europe/Amsterdam:20260618T210000
DTEND;TZID=Europe/Amsterdam:20260618T220000
DTSTAMP:20260420T043241
CREATED:20260412T164704Z
LAST-MODIFIED:20260412T164704Z
UID:157-1781816400-1781820000@ruedaforfun.com
SUMMARY:Les 4 Skifit groep 2
DESCRIPTION:
URL:https://ruedaforfun.com/event/les-4-skifit-groep-2/
CATEGORIES:Eindhoven Rueda Starter
END:VEVENT
BEGIN:VEVENT
DTSTART;TZID=Europe/Amsterdam:20260625T210000
DTEND;TZID=Europe/Amsterdam:20260625T220000
DTSTAMP:20260420T043241
CREATED:20260412T164704Z
LAST-MODIFIED:20260412T164704Z
UID:159-1782421200-1782424800@ruedaforfun.com
SUMMARY:Les 5 Skifit groep 2
DESCRIPTION:
URL:https://ruedaforfun.com/event/les-5-skifit-groep-2/
CATEGORIES:Eindhoven Rueda Starter
END:VEVENT
BEGIN:VEVENT
DTSTART;TZID=Europe/Amsterdam:20260702T210000
DTEND;TZID=Europe/Amsterdam:20260702T220000
DTSTAMP:20260420T043241
CREATED:20260412T164704Z
LAST-MODIFIED:20260412T164704Z
UID:161-1783026000-1783029600@ruedaforfun.com
SUMMARY:Les 6 Skifit groep 2
DESCRIPTION:
URL:https://ruedaforfun.com/event/les-6-skifit-groep-2/
CATEGORIES:Eindhoven Rueda Starter
END:VEVENT
END:VCALENDAR