BEGIN:VCALENDAR
VERSION:2.0
PRODID:-//Rueda for Fun - ECPv6.15.20//NONSGML v1.0//EN
CALSCALE:GREGORIAN
METHOD:PUBLISH
X-ORIGINAL-URL:https://ruedaforfun.com
X-WR-CALDESC:Evenementen voor Rueda for Fun
REFRESH-INTERVAL;VALUE=DURATION:PT1H
X-Robots-Tag:noindex
X-PUBLISHED-TTL:PT1H
BEGIN:VTIMEZONE
TZID:Europe/Amsterdam
BEGIN:DAYLIGHT
TZOFFSETFROM:+0100
TZOFFSETTO:+0200
TZNAME:CEST
DTSTART:20250330T010000
END:DAYLIGHT
BEGIN:STANDARD
TZOFFSETFROM:+0200
TZOFFSETTO:+0100
TZNAME:CET
DTSTART:20251026T010000
END:STANDARD
BEGIN:DAYLIGHT
TZOFFSETFROM:+0100
TZOFFSETTO:+0200
TZNAME:CEST
DTSTART:20260329T010000
END:DAYLIGHT
BEGIN:STANDARD
TZOFFSETFROM:+0200
TZOFFSETTO:+0100
TZNAME:CET
DTSTART:20261025T010000
END:STANDARD
BEGIN:DAYLIGHT
TZOFFSETFROM:+0100
TZOFFSETTO:+0200
TZNAME:CEST
DTSTART:20270328T010000
END:DAYLIGHT
BEGIN:STANDARD
TZOFFSETFROM:+0200
TZOFFSETTO:+0100
TZNAME:CET
DTSTART:20271031T010000
END:STANDARD
END:VTIMEZONE
BEGIN:VEVENT
DTSTART;TZID=Europe/Amsterdam:20260430T200000
DTEND;TZID=Europe/Amsterdam:20260430T210000
DTSTAMP:20260419T231606
CREATED:20260412T161013Z
LAST-MODIFIED:20260412T161013Z
UID:141-1777579200-1777582800@ruedaforfun.com
SUMMARY:Les 2 Skifit groep 1
DESCRIPTION:
URL:https://ruedaforfun.com/event/les-2-skifit-groep-1/
CATEGORIES:Eindhoven Rueda Gevorderd
END:VEVENT
BEGIN:VEVENT
DTSTART;TZID=Europe/Amsterdam:20260507T200000
DTEND;TZID=Europe/Amsterdam:20260507T210000
DTSTAMP:20260419T231606
CREATED:20260412T161013Z
LAST-MODIFIED:20260412T161013Z
UID:143-1778184000-1778187600@ruedaforfun.com
SUMMARY:Les 3 Skifit groep 1
DESCRIPTION:
URL:https://ruedaforfun.com/event/les-3-skifit-groep-1/
CATEGORIES:Eindhoven Rueda Gevorderd
END:VEVENT
BEGIN:VEVENT
DTSTART;TZID=Europe/Amsterdam:20260618T200000
DTEND;TZID=Europe/Amsterdam:20260618T210000
DTSTAMP:20260419T231606
CREATED:20260412T161013Z
LAST-MODIFIED:20260412T161013Z
UID:145-1781812800-1781816400@ruedaforfun.com
SUMMARY:Les 4 Skifit groep 1
DESCRIPTION:
URL:https://ruedaforfun.com/event/les-4-skifit-groep-1/
CATEGORIES:Eindhoven Rueda Gevorderd
END:VEVENT
BEGIN:VEVENT
DTSTART;TZID=Europe/Amsterdam:20260625T200000
DTEND;TZID=Europe/Amsterdam:20260625T210000
DTSTAMP:20260419T231606
CREATED:20260412T161013Z
LAST-MODIFIED:20260412T161013Z
UID:147-1782417600-1782421200@ruedaforfun.com
SUMMARY:Les 5 Skifit groep 1
DESCRIPTION:
URL:https://ruedaforfun.com/event/les-5-skifit-groep-1/
CATEGORIES:Eindhoven Rueda Gevorderd
END:VEVENT
BEGIN:VEVENT
DTSTART;TZID=Europe/Amsterdam:20260702T200000
DTEND;TZID=Europe/Amsterdam:20260702T210000
DTSTAMP:20260419T231606
CREATED:20260412T161013Z
LAST-MODIFIED:20260412T161013Z
UID:149-1783022400-1783026000@ruedaforfun.com
SUMMARY:Les 6 Skifit groep 1
DESCRIPTION:
URL:https://ruedaforfun.com/event/les-6-skifit-groep-1/
CATEGORIES:Eindhoven Rueda Gevorderd
END:VEVENT
END:VCALENDAR