BEGIN:VCALENDAR
VERSION:2.0
PRODID:-//Rueda for Fun - ECPv6.15.20//NONSGML v1.0//EN
CALSCALE:GREGORIAN
METHOD:PUBLISH
X-WR-CALNAME:Rueda for Fun
X-ORIGINAL-URL:https://ruedaforfun.com
X-WR-CALDESC:Evenementen voor Rueda for Fun
REFRESH-INTERVAL;VALUE=DURATION:PT1H
X-Robots-Tag:noindex
X-PUBLISHED-TTL:PT1H
BEGIN:VTIMEZONE
TZID:Europe/Amsterdam
BEGIN:DAYLIGHT
TZOFFSETFROM:+0100
TZOFFSETTO:+0200
TZNAME:CEST
DTSTART:20250330T010000
END:DAYLIGHT
BEGIN:STANDARD
TZOFFSETFROM:+0200
TZOFFSETTO:+0100
TZNAME:CET
DTSTART:20251026T010000
END:STANDARD
BEGIN:DAYLIGHT
TZOFFSETFROM:+0100
TZOFFSETTO:+0200
TZNAME:CEST
DTSTART:20260329T010000
END:DAYLIGHT
BEGIN:STANDARD
TZOFFSETFROM:+0200
TZOFFSETTO:+0100
TZNAME:CET
DTSTART:20261025T010000
END:STANDARD
BEGIN:DAYLIGHT
TZOFFSETFROM:+0100
TZOFFSETTO:+0200
TZNAME:CEST
DTSTART:20270328T010000
END:DAYLIGHT
BEGIN:STANDARD
TZOFFSETFROM:+0200
TZOFFSETTO:+0100
TZNAME:CET
DTSTART:20271031T010000
END:STANDARD
END:VTIMEZONE
BEGIN:VEVENT
DTSTART;TZID=Europe/Amsterdam:20260616T200000
DTEND;TZID=Europe/Amsterdam:20260616T220000
DTSTAMP:20260419T215336
CREATED:20260412T153248Z
LAST-MODIFIED:20260412T153248Z
UID:126-1781640000-1781647200@ruedaforfun.com
SUMMARY:Les 1 ’t Klooster Advanced
DESCRIPTION:
URL:https://ruedaforfun.com/event/les-1-t-klooster-advanced-3/
LOCATION:Dorpshuis ‘t Klooster\, Jack van Gilsplein 1\, Bavel\, 4854CB
CATEGORIES:Bavel Rueda
END:VEVENT
BEGIN:VEVENT
DTSTART;TZID=Europe/Amsterdam:20260623T200000
DTEND;TZID=Europe/Amsterdam:20260623T220000
DTSTAMP:20260419T215336
CREATED:20260412T153353Z
LAST-MODIFIED:20260412T153959Z
UID:128-1782244800-1782252000@ruedaforfun.com
SUMMARY:Les 2 ’t Klooster Advanced
DESCRIPTION:
URL:https://ruedaforfun.com/event/les-2-t-klooster-advanced/
CATEGORIES:Bavel Rueda
END:VEVENT
BEGIN:VEVENT
DTSTART;TZID=Europe/Amsterdam:20260630T200000
DTEND;TZID=Europe/Amsterdam:20260630T220000
DTSTAMP:20260419T215336
CREATED:20260412T153432Z
LAST-MODIFIED:20260412T153959Z
UID:130-1782849600-1782856800@ruedaforfun.com
SUMMARY:Les 3 ’t Klooster Advanced
DESCRIPTION:
URL:https://ruedaforfun.com/event/les-3-t-klooster-advanced-2/
CATEGORIES:Bavel Rueda
END:VEVENT
BEGIN:VEVENT
DTSTART;TZID=Europe/Amsterdam:20260707T200000
DTEND;TZID=Europe/Amsterdam:20260707T220000
DTSTAMP:20260419T215336
CREATED:20260412T153450Z
LAST-MODIFIED:20260412T153958Z
UID:132-1783454400-1783461600@ruedaforfun.com
SUMMARY:Les 4 ’t Klooster Advanced
DESCRIPTION:
URL:https://ruedaforfun.com/event/les-4-t-klooster-advanced-2/
CATEGORIES:Bavel Rueda
END:VEVENT
BEGIN:VEVENT
DTSTART;TZID=Europe/Amsterdam:20260714T200000
DTEND;TZID=Europe/Amsterdam:20260714T220000
DTSTAMP:20260419T215336
CREATED:20260412T153506Z
LAST-MODIFIED:20260412T153958Z
UID:134-1784059200-1784066400@ruedaforfun.com
SUMMARY:Les 5 ’t Klooster Advanced
DESCRIPTION:
URL:https://ruedaforfun.com/event/les-5-t-klooster-advanced-2/
CATEGORIES:Bavel Rueda
END:VEVENT
END:VCALENDAR